BEGIN:VCALENDAR
VERSION:2.0
PRODID:spatie/icalendar-generator
DESCRIPTION:Events from Growpsy
X-WR-CALDESC:Events from Growpsy
REFRESH-INTERVAL;VALUE=DURATION:PT1440M
X-PUBLISHED-TTL:PT1440M
BEGIN:VTIMEZONE
TZID:Etc/GMT+0
BEGIN:STANDARD
DTSTART:20230218T170000Z
TZOFFSETFROM:+0000
TZOFFSETTO:+0000
END:STANDARD
END:VTIMEZONE
BEGIN:VTIMEZONE
TZID:UTC
BEGIN:STANDARD
DTSTART:20250729T011622Z
TZOFFSETFROM:+0000
TZOFFSETTO:+0000
END:STANDARD
END:VTIMEZONE
BEGIN:VEVENT
UID:174-170
DTSTAMP:20260425T011622Z
SUMMARY:Higiene del sueño
LOCATION:
ORGANIZER;CN=actividades@nbpsicologia.es:MAILTO:actividades@nbpsicologia.es
DTSTART;TZID=Etc/GMT+0:20231115T170000
DTEND;TZID=Etc/GMT+0:20231115T173000
X-ALT-DESC;FMTTYPE=TEXT/HTML:En esta píldora psicoeducativa abordaremos el
  concepto de higiene del sueño\, veremos algunos tips relacionados con la
  mejora de nuestra higiene del sueño y algunas recomendaciones para segui
 r ampliando el conocimiento respecto a este tema. Enlace de acceso:  http
 s://us02web.zoom.us/j/9124275273 ID de reunión: 912 427 5273
CATEGORIES:General
URL;VALUE=URI:https://growpsy.com/mc-events/higiene-del-sueno-10/
METHOD:PUBLISH
END:VEVENT
END:VCALENDAR