BEGIN:VCALENDAR
VERSION:2.0
PRODID:spatie/icalendar-generator
DESCRIPTION:Events from Growpsy
X-WR-CALDESC:Events from Growpsy
REFRESH-INTERVAL;VALUE=DURATION:PT1440M
X-PUBLISHED-TTL:PT1440M
BEGIN:VTIMEZONE
TZID:Etc/GMT+0
BEGIN:STANDARD
DTSTART:20220605T170000Z
TZOFFSETFROM:+0000
TZOFFSETTO:+0000
END:STANDARD
END:VTIMEZONE
BEGIN:VTIMEZONE
TZID:UTC
BEGIN:STANDARD
DTSTART:20250723T200333Z
TZOFFSETFROM:+0000
TZOFFSETTO:+0000
END:STANDARD
END:VTIMEZONE
BEGIN:VEVENT
UID:45-42
DTSTAMP:20260419T200333Z
SUMMARY:Tengo un diagnóstico de salud mental y me siento diferente: Estigm
 a y autoestigma
LOCATION:
ORGANIZER;CN=actividades@nbpsicologia.es:MAILTO:actividades@nbpsicologia.es
DTSTART;TZID=Etc/GMT+0:20230302T170000
DTEND;TZID=Etc/GMT+0:20230302T180000
X-ALT-DESC;FMTTYPE=TEXT/HTML:¿Tenemos estigma hacia las personas con algun
 a patología o malestar identificado de salud mental? ¿y autoestigma si l
 o padecemos nosotros? ¿a qué se refiere este último término? Acércate
  a este espacio en el que poder debatir acerca de nuestras creencias con r
 especto a qué es tener un problema de salud mental y cuales son las&amp;helli
 p\;
CATEGORIES:General
URL;VALUE=URI:https://growpsy.com/mc-events/tengo-un-diagnostico-de-salud-m
 ental-y-me-siento-diferente-estigma-y-autoestigma/
METHOD:PUBLISH
END:VEVENT
END:VCALENDAR